BEGIN:VCALENDAR
VERSION:2.0
PRODID:-//Vertical Sports Maui - ECPv6.7.0//NONSGML v1.0//EN
CALSCALE:GREGORIAN
METHOD:PUBLISH
X-WR-CALNAME:Vertical Sports Maui
X-ORIGINAL-URL:https://verticalsportsmaui.com
X-WR-CALDESC:Events for Vertical Sports Maui
REFRESH-INTERVAL;VALUE=DURATION:PT1H
X-Robots-Tag:noindex
X-PUBLISHED-TTL:PT1H
BEGIN:VTIMEZONE
TZID:UTC
BEGIN:STANDARD
TZOFFSETFROM:+0000
TZOFFSETTO:+0000
TZNAME:UTC
DTSTART:20260101T000000
END:STANDARD
TZID:Australia/Melbourne
BEGIN:STANDARD
TZOFFSETFROM:+1100
TZOFFSETTO:+1000
TZNAME:AEST
DTSTART:20260404T160000
END:STANDARD
BEGIN:DAYLIGHT
TZOFFSETFROM:+1000
TZOFFSETTO:+1100
TZNAME:AEDT
DTSTART:20261003T160000
END:DAYLIGHT
END:VTIMEZONE
BEGIN:VEVENT
DTSTART;TZID=UTC:20260204T163000
DTEND;TZID=UTC:20260225T180000
DTSTAMP:20260425T103621
CREATED:20260121T043207Z
LAST-MODIFIED:20260126T171916Z
UID:14987-1770222600-1772042400@verticalsportsmaui.com
SUMMARY:Volleyball Clinic
DESCRIPTION:This four-week volleyball clinic is for youth ages 7-13 and is held on Wednesdays\, 2/4\, 2/11\, 2/18\, 2/25 from 4:30pm-6:00pm. \nAthletes will learn skills to improve their volleyball abilities and overall fitness. \nAfter every session\, there will be a “huddle” where the Coaches will sit down and go through a Bible message\, learning how to integrate sports and faith in Jesus Christ. We believe that our youth can maximize their potential when they grow physically\, mentally and spiritually. \nFor further questions\, email tim@verticalsportsmaui.com \nCLICK HERE to register! \nVertical Sports Maui is a 501c3 non-profit organization. \nOne of our core values is making our programs accessible to all. If you cannot afford a donation\, you are welcome to participate for free. For those who are able\, we encourage to donate something but it is up to each family to determine what they are willing to pay for these training opportunities. \n 
URL:https://verticalsportsmaui.com/event/volleyball-clinic/
LOCATION:Hope Chapel\, 300 East Welakahao Road\, Kihei\, HI\, 96753\, United States
ORGANIZER;CN="Tim Kuykendall":MAILTO:tim@verticalsportsmaui.com
END:VEVENT
BEGIN:VEVENT
DTSTART;TZID=Australia/Melbourne:20260217T183000
DTEND;TZID=Australia/Melbourne:20260402T193000
DTSTAMP:20260425T103621
CREATED:20251231T080720Z
LAST-MODIFIED:20260226T231152Z
UID:14964-1771353000-1775158200@verticalsportsmaui.com
SUMMARY:Vertical CrossFit - Ages 6-14   Sold Out!
DESCRIPTION:GET TICKETS HERE! \nCrossFit starts Tuesday\, Feb 17 and ends Thursday\, April 2nd (6 weeks) \nYouth ages 6-14: Tuesdays and Thursdays 6:30-7:30pm@ Aloha Kihei CrossFit \n(please wear tennis shoes and workout shorts\, and bring a water bottle) \nDuring this 6-week program\, kids will be learning core\, body weight\, weight training and cardio exercises from Coach Alana who is a certified CrossFit Kids Coach and Level 2 Trainer. These sessions take place at Aloha Kihei CrossFit\, a world-class gym with all the equipment needed to help our youth become the best athletes they can be. There will be a heavy teaching emphasis on nutrition. Athletes will learn they are capable of so much more than they think while having fun in the process! \nAfter every workout\, there will be a “huddle” where the Coaches will sit down and go through a Bible message\, learning how to integrate sports and faith in Jesus Christ. We believe that our youth can maximize their potential when they grow physically\, mentally and spiritually. \nFor further questions\, email tim@verticalsportsmaui@gmail.com \nVertical Sports Maui is a 501c3 non-profit organization. \nThis event is staffed entirely by local volunteers who are passionate about coaching fitness programs\, building relationships with kids\, and sharing the gospel.  While tickets to this clinic are free\, donations are gratefully accepted and go directly toward supporting Vertical Sports\, and help keeps this clinic accessible to everyone.  \nMahalo for your support!
URL:https://verticalsportsmaui.com/event/vertical-crossfit-ages-6-14-2/
LOCATION:Aloha CrossFit\, 381 Huku Lii Pl\, Kihei\, HI\, 96753\, United States
ORGANIZER;CN="Alana Rucynski":MAILTO:alanarucynski@gmail.com
END:VEVENT
BEGIN:VEVENT
DTSTART;TZID=UTC:20260304T160000
DTEND;TZID=UTC:20260401T170000
DTSTAMP:20260425T103621
CREATED:20260121T050616Z
LAST-MODIFIED:20260228T091020Z
UID:14991-1772640000-1775062800@verticalsportsmaui.com
SUMMARY:Vertical Basketball League
DESCRIPTION:Entry-Level Youth Basketball League \nSpring Season | March 4 – April 1 \nWHO IT’S FOR \nA fun\, encouraging basketball league for beginner AND developing players. \nDivision:\nAges 7–9 \nSEASON DETAILS\n• 5-Week League\n• First Wednesday: Practice only\n• Remaining Wednesdays: Games\n• Total Games: 8 games per player \nWEDNESDAY SCHEDULE\n• Ages 7–9: 4:00 – 5:00 PM\nCOST \n$45 per player \nIncludes:\n• League registration\n• Vertical Sports Maui Custom Jersey\n• Coaching and administration \nLEAGUE FOCUS\n• Entry-level friendly instruction\n• Skill development & fundamentals\n• Equal playing time\n• Positive coaching environment\n• Fun\, confidence\, and character building \nCLICK HERE FOR TICKETS
URL:https://verticalsportsmaui.com/event/vertical-basketball-league/
END:VEVENT
BEGIN:VEVENT
DTSTART;TZID=UTC:20260406T043000
DTEND;TZID=UTC:20260427T180000
DTSTAMP:20260425T103621
CREATED:20260313T011349Z
LAST-MODIFIED:20260326T233108Z
UID:15121-1775449800-1777312800@verticalsportsmaui.com
SUMMARY:April Soccer Clinic Ages 6-13
DESCRIPTION:Join us at Hope Chapel all four Mondays in April for our spring soccer clinic. \nWear comfortable clothes and bring a water bottle. \nFor further questions\, email tim@verticalsportsmaui@gmail.com \nVertical Sports Maui is a 501c3 non-profit organization. \nThis event is staffed entirely by local volunteers who are passionate about coaching fitness programs\, building relationships with kids\, and sharing the gospel.  While tickets to this clinic are free\, donations are gratefully accepted and go directly toward supporting Vertical Sports\, and help keeps this clinic accessible to everyone.  \nMahalo for your support! \nRegister HERE!
URL:https://verticalsportsmaui.com/event/april-soccer-clinic-ages-6-13/
LOCATION:Hope Chapel\, 300 East Welakahao Road\, Kihei\, HI\, 96753\, United States
ORGANIZER;CN="Tim Kuykendall":MAILTO:tim@verticalsportsmaui.com
END:VEVENT
BEGIN:VEVENT
DTSTART;TZID=Australia/Melbourne:20260411T080000
DTEND;TZID=Australia/Melbourne:20260411T133000
DTSTAMP:20260425T103621
CREATED:20260220T173811Z
LAST-MODIFIED:20260220T173909Z
UID:15055-1775894400-1775914200@verticalsportsmaui.com
SUMMARY:Sports Ministry Conference "Building Champions"
DESCRIPTION:JOIN US for our 5th Annual Sports Ministry Conference! \nWhether you’re a coach\, an athlete\, a volunteer at Sports Camp\, a business leader\, or someone looking to grow in your walk with God—this opportunity is for you! Our goal with this event is to equip the people of God to do the work of God\, not just in sports but in every area of life. \nGet Tickets HERE! \nThis conference starts at 8:00 am with registration and we’ll have workshops and lectures from 8:30 am – 1:30 pm. Our conference will be moderated by Vertical Sports’ Director of Athletics and Coach Development\, Tim Kuykendall. \nKeynote Speaker: Eric Boles – “Building a ‘Champion’ Culture” \nEric Boles is a former NFL wide receiver and the Founder and CEO of Gamechangers\, Inc. He is the author of Game Changer\, a powerful leadership playbook on developing winning character\, confidence\, and consistency. Eric works with teams\, coaches\, and organizations across the country to help leaders build culture from the inside out. \nCommunity Leaders Panel – “Building Champions in Everyday Spaces” \nThis panel will offer practical\, real-world examples of what it looks like to build champions beyond the field—in families\, workplaces\, schools\, and community. \n\nLauren Labat – Fellowship of Christian Athletes\nChoong Man Kim – Kamehameha Schools\nJosh Marburger – One Love Skate\nAustin Henry – Parent / Volunteer / Coach\n\nCHECK-IN: 8:00a – 8:30a (Coffee and Light Refreshments) \nPROGRAM: 8:30a – 1:30p \nREGISTER TODAY!  If you’re ready to grow\, be inspired\, and step more boldly into the calling God has placed on your life\, this is your moment. Join a community of coaches\, athletes\, leaders\, and everyday believers who are committed to building champions from the inside out. Space is limited\, and the impact is real—reserve your spot today and be part of a day that will strengthen your leadership\, deepen your faith\, and elevate the way you influence the world around you.
URL:https://verticalsportsmaui.com/event/sports-ministry-conference-building-champions/
LOCATION:Hope Chapel\, 300 East Welakahao Road\, Kihei\, HI\, 96753\, United States
ORGANIZER;CN="Tim Kuykendall":MAILTO:tim@verticalsportsmaui.com
END:VEVENT
BEGIN:VEVENT
DTSTART;TZID=UTC:20260423T080000
DTEND;TZID=UTC:20260423T170000
DTSTAMP:20260425T103621
CREATED:20260423T012518Z
LAST-MODIFIED:20260423T012857Z
UID:15156-1776931200-1776963600@verticalsportsmaui.com
SUMMARY:Flag Rugby ages 7-13
DESCRIPTION:Three Rugby sessions offered – at Hope Chapel Bowl \n4:30 – 6:00 pm – led by Coach Bryan Taylor \nFridays May 8\, 15\, 22 \nWHAT TO EXPECT\n 3 fun-filled rugby sessions for beginners and returning players\n Learn rugby fundamentals: passing\, teamwork\, tackling technique (no contact)\n Fast-paced games and character lessons\n Led by Coach Bryan Taylor and the Vertical Sports team \nWHAT TO BRING\n Athletic (tennis) shoes or cleats (no metal spikes) required\n Water bottle\n Positive attitude! \nCOST\nFREE — Donations welcome to support Vertical Sports Maui \nThis event is staffed entirely by local volunteers who are passionate about building relationships with kids and sharing the gospel. While tickets to this clinic are free\, donations are gratefully accepted and go directly toward supporting Vertical Sports\, and help keeps this clinic accessible to everyone.  \nREGISTER HERE \n 
URL:https://verticalsportsmaui.com/event/flag-rugby/
END:VEVENT
BEGIN:VEVENT
DTSTART;TZID=UTC:20260509T080000
DTEND;TZID=UTC:20260509T090000
DTSTAMP:20260425T103622
CREATED:20260422T033108Z
LAST-MODIFIED:20260422T035135Z
UID:15147-1778313600-1778317200@verticalsportsmaui.com
SUMMARY:Join us for the Maui Charity Walk!
DESCRIPTION:Aloha Vertical Sports Maui ‘ohana\, We’re excited to announce that Vertical Sports Maui is participating in the 2026 Maui Charity Walk on May 9—and we want YOU on our team! Every step you take helps us to inspire and equip youth through sports and continue BUILDING CHAMPIONS on Maui. Walk with us\, donate\, or help spread the word. Great food\, exciting door prizes\, and fun swag at all the water stations.  \nIMPORTANT: This link below will take you to the Maui Charity Walk page benefitting Vertical Sports Maui. Click on the “Register or Donate” button to register for the walk. If you click on the “Join this Team” it will have you create you own individual donation page to solicit donations from friends/family. SIGN UP HERE!
URL:https://verticalsportsmaui.com/event/join-us-for-the-maui-charity-walk/
LOCATION:War Memorial Complex
END:VEVENT
BEGIN:VEVENT
DTSTART;TZID=UTC:20260608T080000
DTEND;TZID=UTC:20260612T143000
DTSTAMP:20260425T103622
CREATED:20260222T060505Z
LAST-MODIFIED:20260222T061253Z
UID:15077-1780905600-1781274600@verticalsportsmaui.com
SUMMARY:Vertical Sports Camp June 8-12
DESCRIPTION:We are bringing together 700 campers ages 5-14 and nearly 300 volunteers to learn 14 different sports in five days! \nCLICK HERE for more information and to register!
URL:https://verticalsportsmaui.com/event/sports-camp-june-8-12/
LOCATION:Hope Chapel\, 300 East Welakahao Road\, Kihei\, HI\, 96753\, United States
END:VEVENT
END:VCALENDAR